BEGIN:VCALENDAR
VERSION:2.0
PRODID:-//wp-events-plugin.com//7.2.3.1//EN
BEGIN:VEVENT
UID:2885@torbayfamilyhub.org.uk
DTSTART:20240619T173000Z
DTEND:20240619T193000Z
DTSTAMP:20240307T100543Z
URL:https://torbayfamilyhub.org.uk/events/youth-service-groups-2024-06-19/
SUMMARY:Youth Service Groups - ' She And Us' Young Women's Group
DESCRIPTION:'She And Us' - Young Women's Group 11-17 Years. Every Wednesday
  6.30pm-8.30pm at Chill'd Out\, Torquay\n\nFor more information\, please s
 earch for Torbay Youth Service on the Torbay Council Website www.torbay.go
 v.uk or contact Jenny on 07920806455 or Paul on 07766990922.\n\nThese grou
 ps are open to any young people\, even if they haven't engaged with the Yo
 uth Service Before
ATTACH;FMTTYPE=image/jpeg:https://torbayfamilyhub.org.uk/wp-content/upload
 s/2024/03/Picture1-1.jpg
CATEGORIES:What's on
LOCATION:Chill'd Out Youth Project\, Chill'd Out Youth Project\, Abbey Park
 \, Belgrave Road \, Torquay TQ2 5HP \, Devon \, TQ2 5HP \, United Kingdom
GEO:50.463335;-3.537221
X-APPLE-STRUCTURED-LOCATION;VALUE=URI;X-ADDRESS=Chill'd Out Youth Project\,
  Abbey Park\, Belgrave Road \, Torquay TQ2 5HP \, Devon \, TQ2 5HP \, Unit
 ed Kingdom;X-APPLE-RADIUS=100;X-TITLE=Chill'd Out Youth Project:geo:50.463
 335,-3.537221
END:VEVENT
END:VCALENDAR