BEGIN:VCALENDAR
VERSION:2.0
PRODID:-//wp-events-plugin.com//7.2.3.1//EN
BEGIN:VEVENT
UID:9459@torbayfamilyhub.org.uk
DTSTART:20260508T120000Z
DTEND:20260508T140000Z
DTSTAMP:20260416T114044Z
URL:https://torbayfamilyhub.org.uk/events/understanding-your-child-solihul
 l-approach-4-2026-05-01-2026-05-08/
SUMMARY:Togetherness - Bringing the Solihull Approach to the World - Week 2
DESCRIPTION:1pm - 3pm for 10-weeks at The Barn Family Hub\, Rea Barn Road\,
  Brixham\, TQ5 9DF\n\nWe may cover topics including:\n\n 	Feelings\n 	Impo
 rtance of Play\n 	Effective Communication\n 	Developmental Needs\n 	Challe
 nging Behaviour\n 	Sleep\n\nTogetherness is a course for all parents\, gra
 ndparents and carers of children aged 6 months to 6 years.\n\nTo book a pl
 ace\, please contact Andrew Wright on andrew.wright@torbay.gov.uk or on 07
 7 495028.
ATTACH;FMTTYPE=image/jpeg:https://torbayfamilyhub.org.uk/wp-content/upload
 s/2026/04/2.png
CATEGORIES:What's on
LOCATION:The Barn\, Family Hub\, The Barn\, Brixham Enterprise Estate\, Rea
  Barn\, Brixham\, TQ5 9DF\, United Kingdom
GEO:50.390348;-3.513387
X-APPLE-STRUCTURED-LOCATION;VALUE=URI;X-ADDRESS=The Barn\, Brixham Enterpri
 se Estate\, Rea Barn\, Brixham\, TQ5 9DF\, United Kingdom;X-APPLE-RADIUS=1
 00;X-TITLE=The Barn\, Family Hub:geo:50.390348,-3.513387
END:VEVENT
END:VCALENDAR