BEGIN:VCALENDAR
VERSION:2.0
PRODID:-//wp-events-plugin.com//7.2.3.1//EN
BEGIN:VEVENT
UID:9454@torbayfamilyhub.org.uk
DTSTART:20260526T090000Z
DTEND:20260526T100000Z
DTSTAMP:20260401T104639Z
URL:https://torbayfamilyhub.org.uk/events/ramble-club-19/
SUMMARY:Ramble Club
DESCRIPTION:Meet at Torre Abbey Car Park\, Torquay\n\nWhether you'd like an
  opportunity to make new friends\, catch up with old ones or are looking f
 or some information and peer support\, Ramble Club's got you covered.\n\nJ
 oin us with your little ones for a wellbeing walk and a chance to talk as 
 we enjoy the beautiful green and blue spaces that Torbay has to offer.
ATTACH;FMTTYPE=image/jpeg:https://torbayfamilyhub.org.uk/wp-content/upload
 s/2026/04/Ramble-Club-2.png
CATEGORIES:What's on
END:VEVENT
END:VCALENDAR