BEGIN:VCALENDAR
VERSION:2.0
PRODID:-//wp-events-plugin.com//7.2.3.1//EN
BEGIN:VEVENT
UID:8277@torbayfamilyhub.org.uk
DTSTART:20260610T170000Z
DTEND:20260610T183000Z
DTSTAMP:20251013T105234Z
URL:https://torbayfamilyhub.org.uk/events/neurodiversity-parent-support-pr
 ogram-sensory-differences-4/
SUMMARY:Neurodiversity Parent Support Program - Sensory Differences
DESCRIPTION:In this session we will look at what we mean by "Sensory differ
 ences". We will explore the 8 senses and some of the differences that neur
 odiverse children and young people may experience.\n\n
ATTACH;FMTTYPE=image/jpeg:https://torbayfamilyhub.org.uk/wp-content/upload
 s/2025/10/Screenshot-2025-10-13-114548.png
CATEGORIES:What's on
LOCATION:https://events.teams.microsoft.com/event/0e4d646f-8fee-40fb-8b1a-e
 8e2ff3b03c4@872445e4-d12e-48a7-a682-75716a8c02c2
END:VEVENT
END:VCALENDAR