BEGIN:VCALENDAR
VERSION:2.0
PRODID:-//wp-events-plugin.com//7.2.3.1//EN
BEGIN:VEVENT
UID:2803@torbayfamilyhub.org.uk
DTSTART:20240430T160000Z
DTEND:20240430T173000Z
DTSTAMP:20240624T122323Z
URL:https://torbayfamilyhub.org.uk/events/family-hub-bump-club-2024-04-30/
SUMMARY:Family Hub Bump Club
DESCRIPTION:\n\nThe Family Hub Bump Club: Discover Support for Expectant Pa
 rents!\n\n\n\nAre you expecting a little one? Are you and your partner eag
 erly awaiting the arrival of your bundle of joy? Look no further! Bump Clu
 b is here to support you on this incredible journey into parenthood.\n\nWh
 at is Bump Club? Bump Club is a monthly drop-in for expectant parents and 
 their partners. It’s a warm and welcoming space where you can connect wi
 th other parents-to-be\, share experiences\, and discover what’s on offe
 r for your growing family.\n\nWho’s Welcome? Everyone! Whether you’re 
 a first-time parent\, a seasoned pro\, or somewhere in between\, Bump Club
  is open to all. Partners\, grandparents\, and friends are also encouraged
  to join.\n\nFor more information\, please go to Family Hub Bump Club - Fa
 mily Hub (torbayfamilyhub.org.uk).\n\n\n
ATTACH;FMTTYPE=image/jpeg:https://torbayfamilyhub.org.uk/wp-content/upload
 s/2024/01/Generic-Bump-Club.png
CATEGORIES:What's on
LOCATION:The Beehive Family Hub\, Bishops Place\, Paignton\, The Beehive Fa
 mily Hub\, Bishops Place\, Paignton\, TQ3 3DZ\, United Kingdom
GEO:50.436113;-3.568418
X-APPLE-STRUCTURED-LOCATION;VALUE=URI;X-ADDRESS=The Beehive Family Hub\, Bi
 shops Place\, Paignton\, TQ3 3DZ\, United Kingdom;X-APPLE-RADIUS=100;X-TIT
 LE=The Beehive Family Hub\, Bishops Place\, Paignton:geo:50.436113,-3.5684
 18
END:VEVENT
END:VCALENDAR