BEGIN:VCALENDAR
VERSION:2.0
PRODID:-//wp-events-plugin.com//7.2.3.1//EN
BEGIN:VEVENT
UID:6562@torbayfamilyhub.org.uk
DTSTART;TZID=Europe/London:20250326T160000
DTEND;TZID=Europe/London:20250326T170000
DTSTAMP:20241022T112003Z
URL:https://torbayfamilyhub.org.uk/events/anaphylaxis-training-epi-pen-6/
SUMMARY:Anaphylaxis Training (Epi-pen)
DESCRIPTION:\n\nThis session will be delivered by a Health professional to 
 refresh practitioner knowledge of managing children with allergic reaction
 s.  This training is suitable for anyone working in childcare settings 
 (teachers\, mealtime assistants\, kitchen staff\, playground staff\, trans
 port staff)\n\nThis session will help participants to recognise the early 
 signs and symptoms of anaphylaxis and when/how to use an adrenalin auto-in
 jector following the Anaphylaxis UK guidelines.  It will also look at all
 ergen avoidance.\n\nThis will take place via Microsoft Teams.\n\n\nTrainer
 : Tas Felstead\, Public Health Community Staff Nurse (School Nurse)\n\nCo
 st: Free
ATTACH;FMTTYPE=image/jpeg:https://torbayfamilyhub.org.uk/wp-content/upload
 s/2024/08/TC-NHS-collab.jpg
CATEGORIES:Training Session
LOCATION:https://torbay.learningpool.com/course/view.php?id=952
END:VEVENT
BEGIN:VTIMEZONE
TZID:Europe/London
X-LIC-LOCATION:Europe/London
BEGIN:STANDARD
DTSTART:20241027T010000
TZOFFSETFROM:+0100
TZOFFSETTO:+0000
TZNAME:GMT
END:STANDARD
END:VTIMEZONE
END:VCALENDAR