BEGIN:VCALENDAR
VERSION:2.0
PRODID:-//wp-events-plugin.com//7.2.3.1//EN
BEGIN:VEVENT
UID:1223@torbayfamilyhub.org.uk
DTSTART:20231124T090000Z
DTEND:20231124T100000Z
DTSTAMP:20231110T103122Z
URL:https://torbayfamilyhub.org.uk/events/a-walk-through-goodrington/
SUMMARY:A walk through Goodrington
DESCRIPTION:Join our new Family Hub Ramble Club for a walk and talk through
  Goodrington with your baby or little ones.\n\n 	Tired of staying indoors?
 \n 	Are you unsure what activities there are to do with your baby?\n 	Does
  your little one need some fresh air?\n\nWhy don’t you come along to one
  of our FREE rambles? Make time for yourself by joining us on our regular 
 walk and talk meet ups. A time to embrace nature\, move your body\, connec
 t with your child and make new friends. These free led walks are perfect f
 or parents\, carers and grandparents.\n\nWe're meeting us at the bandstand
  so come and join us for a little walk\, a chat and make new friends.\n\nN
 o need to book\, just turn up. See you there!\n\n\n\n&nbsp\;
ATTACH;FMTTYPE=image/jpeg:https://torbayfamilyhub.org.uk/wp-content/upload
 s/2023/11/Buggy-Walk.jpg
CATEGORIES:What's on
LOCATION:Goodrington Young's Park\, Goodrington Young's Park\, 18 Young's P
 ark Road\, Paignton TQ4 6BU\, Paignton\, TQ4 6BU\, United Kingdom
GEO:50.427217;-3.562039
X-APPLE-STRUCTURED-LOCATION;VALUE=URI;X-ADDRESS=Goodrington Young's Park\, 
 18 Young's Park Road\, Paignton TQ4 6BU\, Paignton\, TQ4 6BU\, United King
 dom;X-APPLE-RADIUS=100;X-TITLE=Goodrington Young's Park:geo:50.427217,-3.5
 62039
END:VEVENT
END:VCALENDAR